BEGIN:VCALENDAR
VERSION:2.0
PRODID:-//SmartSights - ECPv6.15.20//NONSGML v1.0//EN
CALSCALE:GREGORIAN
METHOD:PUBLISH
X-WR-CALNAME:SmartSights
X-ORIGINAL-URL:https://smartsights.com
X-WR-CALDESC:Events for SmartSights
REFRESH-INTERVAL;VALUE=DURATION:PT1H
X-Robots-Tag:noindex
X-PUBLISHED-TTL:PT1H
BEGIN:VTIMEZONE
TZID:America/Chicago
BEGIN:DAYLIGHT
TZOFFSETFROM:-0600
TZOFFSETTO:-0500
TZNAME:CDT
DTSTART:20250309T080000
END:DAYLIGHT
BEGIN:STANDARD
TZOFFSETFROM:-0500
TZOFFSETTO:-0600
TZNAME:CST
DTSTART:20251102T070000
END:STANDARD
BEGIN:DAYLIGHT
TZOFFSETFROM:-0600
TZOFFSETTO:-0500
TZNAME:CDT
DTSTART:20260308T080000
END:DAYLIGHT
BEGIN:STANDARD
TZOFFSETFROM:-0500
TZOFFSETTO:-0600
TZNAME:CST
DTSTART:20261101T070000
END:STANDARD
BEGIN:DAYLIGHT
TZOFFSETFROM:-0600
TZOFFSETTO:-0500
TZNAME:CDT
DTSTART:20270314T080000
END:DAYLIGHT
BEGIN:STANDARD
TZOFFSETFROM:-0500
TZOFFSETTO:-0600
TZNAME:CST
DTSTART:20271107T070000
END:STANDARD
END:VTIMEZONE
BEGIN:VEVENT
DTSTART;VALUE=DATE:20260421
DTEND;VALUE=DATE:20260422
DTSTAMP:20260421T075048
CREATED:20260227T205841Z
LAST-MODIFIED:20260227T210351Z
UID:38007-1776729600-1776815999@smartsights.com
SUMMARY:Logic Industrial Automation Tech Expo - St. Louis
DESCRIPTION:Join us for a free\, hands-on industrial automation event featuring an expo floor packed with countless solutions\, plus technical seminars. 
URL:https://smartsights.com/event/logic-industrial-automation-tech-expo-st-louis/
LOCATION:Renaissance St. Louis Airport Hotel\, 9801 Natural Bridge Rd.\, St. Louis\, MO\, 63134\, United States
ATTACH;FMTTYPE=image/webp:https://smartsights.com/wp-content/uploads/2026/02/St.-Loius-Tech-Expo-Logic.webp
END:VEVENT
END:VCALENDAR